BEGIN:VCALENDAR
VERSION:2.0
PRODID:-//Weinritter Salzburg - ECPv6.15.11//NONSGML v1.0//EN
CALSCALE:GREGORIAN
METHOD:PUBLISH
X-ORIGINAL-URL:https://www.weinritter-salzburg.at
X-WR-CALDESC:Veranstaltungen für Weinritter Salzburg
REFRESH-INTERVAL;VALUE=DURATION:PT1H
X-Robots-Tag:noindex
X-PUBLISHED-TTL:PT1H
BEGIN:VTIMEZONE
TZID:Europe/Berlin
BEGIN:DAYLIGHT
TZOFFSETFROM:+0100
TZOFFSETTO:+0200
TZNAME:CEST
DTSTART:20250330T010000
END:DAYLIGHT
BEGIN:STANDARD
TZOFFSETFROM:+0200
TZOFFSETTO:+0100
TZNAME:CET
DTSTART:20251026T010000
END:STANDARD
BEGIN:DAYLIGHT
TZOFFSETFROM:+0100
TZOFFSETTO:+0200
TZNAME:CEST
DTSTART:20260329T010000
END:DAYLIGHT
BEGIN:STANDARD
TZOFFSETFROM:+0200
TZOFFSETTO:+0100
TZNAME:CET
DTSTART:20261025T010000
END:STANDARD
BEGIN:DAYLIGHT
TZOFFSETFROM:+0100
TZOFFSETTO:+0200
TZNAME:CEST
DTSTART:20270328T010000
END:DAYLIGHT
BEGIN:STANDARD
TZOFFSETFROM:+0200
TZOFFSETTO:+0100
TZNAME:CET
DTSTART:20271031T010000
END:STANDARD
END:VTIMEZONE
BEGIN:VEVENT
DTSTART;VALUE=DATE:20260509
DTEND;VALUE=DATE:20260510
DTSTAMP:20260420T034636
CREATED:20250908T163946Z
LAST-MODIFIED:20260419T195651Z
UID:21503-1778284800-1778371199@www.weinritter-salzburg.at
SUMMARY:Consulatsfest 2026
DESCRIPTION:HABSBURGISCHER RITTERORDEN – GRÜNDUNGEN: 1333*1468*1984 \nORDO EQUESTRIS VINI EUROPAEConsulat Salzburg\nEINLADUNGSBRIEF\nUnser Ordensprotektor Karl v. Habsburg-Lothringen\,der Ritterliche Senat und das Consulat Salzburggeben sich die Ehre\, Sie und Ihre Begleitung zum \nCONSULATSFEST SALZBURG\nmit Akkreditierung und Inthronisationen\nam Samstag\, den 9. Mai 2026herzlich nach Salzburg einzuladen. \nIN HONOREM DEI et IN HONOREM VINI\nDie Einlader\nGeneralconsul: Generalconsul Prof. A. Rákóczi Tombor-TinteraGeneralkapitän: Senatsconsul Alois PaulProconsul I. Consulat Salzburg: Eques Christian OberhoferProconsul II. Consulat Salzburg: Eques Peter Moser \nFESTPROGRAMM RITTERFEST\n13:30EINTREFFEN der Festteilnehmer zur AGAPE mit Brot & Weinim Restaurant Sternbräu – Atrium und SternGallerie5020 Salzburg\, Griesgasse 23 \n14:45FESTZUG – zur Franziskanerkirche \n15:00FESTGOTTESDIENST & RITTERLICHER FESTAKTunter der Leitung unseres Consulatspriesters Hospes Chr. Gmachl-Ahermit Akkreditierung und InthronisationenDer Salzburger Weinritterchor wird das Fest würdig umrahmenMusikalische Gesamtleitung: Eques R. Meisriemel \n16:45FESTZUG – zurück zum Sternbräu \n18:00RITTERLICHES FESTMAHLim Sternbräu – SternGalleriemit erlesenen Weinen unserer Consulatswinzer \n23:00ENDE der Veranstaltung \nFESTKLEIDUNG\nRitterliche Eidgenoss*en: Ornat\, Ordensanzug\, Weinritterdirndl\, InsignieDem Anlass entsprechend wird um festliche Kleidung (Tracht) gebeten \nAKKREDITIERUNGEN & INTHRONISATIONEN\nRitterliche Kandidaten werden gebeten\, sich beim Marschall bis 14:00 zu melden \nANMELDUNG und EINZAHLUNG\nbis spätestens 26. April 2026Teilnahme gilt mit Einzahlung des Festbeitrages und Anmeldung per e-Maile-Mail: otto.hagenauer@aon.at \nFESTINSKRIPTION RITTERFEST\n€ 100.- pro Person (beinhaltet alle Leistungen im Veranstaltungszeitraum)Der Festbeitrag ist auf IBAN AT10 1509 0001 2151 3030 – lautend auf OEVE-Salzburgmit Verwendungszweck „Consulatsfest 2026“ innerhalb der Anmeldefrist einzuzahlen. \nDATENSCHUTZ\nFotos vom Consulatsfest werden auf unserer Homepage veröffentlicht! \nHinweise:Anmeldungen per E-Mail und Einzahlung auf „unser“ Kontogelten nur gemeinsam als verbindliche Anmeldung!Absagen per email bis zum 1.5. sind möglichAbsagen nach dem 1.5. führen zum Verlust der Einzahlung(Ersatzpersonen können aber genannt werden) \nWir freuen uns auf Euer Kommen! \nMit Ritterlichen Grüßen \nIN HONOREM DEI et IN HONOREM VINI \nEques OKT Edi Fraccaroli. ProconsulEques Peter Moser\, ProconsulEques Otto Hagenauer\, Administrator \nPAX et LAETITIA SEMPER NOBISCUM \nEinladung [PDF]
URL:https://www.weinritter-salzburg.at/event/consulatsfest-2026/
CATEGORIES:Veranstaltungen
END:VEVENT
BEGIN:VEVENT
DTSTART;VALUE=DATE:20260529
DTEND;VALUE=DATE:20260601
DTSTAMP:20260420T034636
CREATED:20260205T105315Z
LAST-MODIFIED:20260205T112424Z
UID:21965-1780012800-1780271999@www.weinritter-salzburg.at
SUMMARY:Weinreise - Bodensee
DESCRIPTION:
URL:https://www.weinritter-salzburg.at/event/weinreise-bodensee/
CATEGORIES:Ausflüge,Veranstaltungen
END:VEVENT
BEGIN:VEVENT
DTSTART;VALUE=DATE:20260704
DTEND;VALUE=DATE:20260705
DTSTAMP:20260420T034636
CREATED:20260205T105350Z
LAST-MODIFIED:20260406T153839Z
UID:21967-1783123200-1783209599@www.weinritter-salzburg.at
SUMMARY:Sommerfest 2026
DESCRIPTION:
URL:https://www.weinritter-salzburg.at/event/sommerfest-2026/
CATEGORIES:Veranstaltungen
END:VEVENT
BEGIN:VEVENT
DTSTART;VALUE=DATE:20260902
DTEND;VALUE=DATE:20260903
DTSTAMP:20260420T034636
CREATED:20260205T105418Z
LAST-MODIFIED:20260205T111556Z
UID:21969-1788307200-1788393599@www.weinritter-salzburg.at
SUMMARY:Tafelrunde
DESCRIPTION:
URL:https://www.weinritter-salzburg.at/event/tafelrunde-20/
CATEGORIES:Tafelrunden,Veranstaltungen
END:VEVENT
BEGIN:VEVENT
DTSTART;VALUE=DATE:20261007
DTEND;VALUE=DATE:20261008
DTSTAMP:20260420T034636
CREATED:20260205T105447Z
LAST-MODIFIED:20260205T111602Z
UID:21971-1791331200-1791417599@www.weinritter-salzburg.at
SUMMARY:Tafelrunde
DESCRIPTION:
URL:https://www.weinritter-salzburg.at/event/tafelrunde-21/
CATEGORIES:Tafelrunden,Veranstaltungen
END:VEVENT
BEGIN:VEVENT
DTSTART;VALUE=DATE:20261107
DTEND;VALUE=DATE:20261108
DTSTAMP:20260420T034636
CREATED:20260205T105627Z
LAST-MODIFIED:20260205T105843Z
UID:21973-1794009600-1794095999@www.weinritter-salzburg.at
SUMMARY:Tafelrunde - Ganslessen
DESCRIPTION:
URL:https://www.weinritter-salzburg.at/event/tafelrunde-ganslessen-4/
CATEGORIES:Tafelrunden,Veranstaltungen
END:VEVENT
BEGIN:VEVENT
DTSTART;VALUE=DATE:20261205
DTEND;VALUE=DATE:20261206
DTSTAMP:20260420T034636
CREATED:20260205T105657Z
LAST-MODIFIED:20260205T105753Z
UID:21975-1796428800-1796515199@www.weinritter-salzburg.at
SUMMARY:Adventfeier 2026
DESCRIPTION:
URL:https://www.weinritter-salzburg.at/event/adventfeier-2026/
CATEGORIES:Veranstaltungen
END:VEVENT
END:VCALENDAR